BEGIN:VCALENDAR
VERSION:2.0
PRODID:-//USDualSports - ECPv6.15.17//NONSGML v1.0//EN
CALSCALE:GREGORIAN
METHOD:PUBLISH
X-ORIGINAL-URL:https://www.usdualsports.com
X-WR-CALDESC:Events for USDualSports
REFRESH-INTERVAL;VALUE=DURATION:PT1H
X-Robots-Tag:noindex
X-PUBLISHED-TTL:PT1H
BEGIN:VTIMEZONE
TZID:UTC
BEGIN:STANDARD
TZOFFSETFROM:+0000
TZOFFSETTO:+0000
TZNAME:UTC
DTSTART:20250101T000000
END:STANDARD
END:VTIMEZONE
BEGIN:VEVENT
DTSTART;VALUE=DATE:20260103
DTEND;VALUE=DATE:20260105
DTSTAMP:20260421T030332
CREATED:20241011T163009Z
LAST-MODIFIED:20251009T195943Z
UID:31331-1767398400-1767571199@www.usdualsports.com
SUMMARY:Swamp Fox Dual Sport
DESCRIPTION:South Carolina
URL:https://www.usdualsports.com/event/swamp-fox-dual-sport/
CATEGORIES:Dual Sport Rides
END:VEVENT
BEGIN:VEVENT
DTSTART;VALUE=DATE:20260117
DTEND;VALUE=DATE:20260119
DTSTAMP:20260421T030332
CREATED:20241012T035842Z
LAST-MODIFIED:20251217T164712Z
UID:31355-1768608000-1768780799@www.usdualsports.com
SUMMARY:Broxton Bridge Dual Sport
DESCRIPTION:South Carolina
URL:https://www.usdualsports.com/event/broxton-bridge-dual-sport/
CATEGORIES:Dual Sport Rides
END:VEVENT
BEGIN:VEVENT
DTSTART;VALUE=DATE:20260124
DTEND;VALUE=DATE:20260126
DTSTAMP:20260421T030332
CREATED:20241211T175707Z
LAST-MODIFIED:20251212T123717Z
UID:32411-1769212800-1769385599@www.usdualsports.com
SUMMARY:High Desert 250 Dual Sport
DESCRIPTION:California
URL:https://www.usdualsports.com/event/high-desert-250-dual-sport/
CATEGORIES:Dual Sport Rides
END:VEVENT
END:VCALENDAR