BEGIN:VCALENDAR
VERSION:2.0
PRODID:-//USDualSports - ECPv6.15.17//NONSGML v1.0//EN
CALSCALE:GREGORIAN
METHOD:PUBLISH
X-ORIGINAL-URL:https://www.usdualsports.com
X-WR-CALDESC:Events for USDualSports
REFRESH-INTERVAL;VALUE=DURATION:PT1H
X-Robots-Tag:noindex
X-PUBLISHED-TTL:PT1H
BEGIN:VTIMEZONE
TZID:UTC
BEGIN:STANDARD
TZOFFSETFROM:+0000
TZOFFSETTO:+0000
TZNAME:UTC
DTSTART:20250101T000000
END:STANDARD
END:VTIMEZONE
BEGIN:VEVENT
DTSTART;VALUE=DATE:20260827
DTEND;VALUE=DATE:20260831
DTSTAMP:20260421T183441
CREATED:20250113T211707Z
LAST-MODIFIED:20260120T131338Z
UID:33011-1787788800-1788134399@www.usdualsports.com
SUMMARY:Blackwater Adventure Rally
DESCRIPTION:West Virginia
URL:https://www.usdualsports.com/event/blackwater-adventure-rally/
CATEGORIES:Adventure Rides
END:VEVENT
END:VCALENDAR