BEGIN:VCALENDAR
VERSION:2.0
PRODID:-//USDualSports - ECPv6.15.17//NONSGML v1.0//EN
CALSCALE:GREGORIAN
METHOD:PUBLISH
X-WR-CALNAME:USDualSports
X-ORIGINAL-URL:https://www.usdualsports.com
X-WR-CALDESC:Events for USDualSports
REFRESH-INTERVAL;VALUE=DURATION:PT1H
X-Robots-Tag:noindex
X-PUBLISHED-TTL:PT1H
BEGIN:VTIMEZONE
TZID:UTC
BEGIN:STANDARD
TZOFFSETFROM:+0000
TZOFFSETTO:+0000
TZNAME:UTC
DTSTART:20250101T000000
END:STANDARD
END:VTIMEZONE
BEGIN:VEVENT
DTSTART;VALUE=DATE:20260725
DTEND;VALUE=DATE:20260726
DTSTAMP:20260421T165357
CREATED:20250124T215243Z
LAST-MODIFIED:20260128T195652Z
UID:33249-1784937600-1785023999@www.usdualsports.com
SUMMARY:Hardwoods Dual Sport
DESCRIPTION:Ohio
URL:https://www.usdualsports.com/event/hardwoods-dual-sport/
CATEGORIES:Adventure Rides,Dual Sport Rides,Ohio
END:VEVENT
END:VCALENDAR