BEGIN:VCALENDAR
VERSION:2.0
PRODID:-//USDualSports - ECPv6.15.17//NONSGML v1.0//EN
CALSCALE:GREGORIAN
METHOD:PUBLISH
X-ORIGINAL-URL:https://www.usdualsports.com
X-WR-CALDESC:Events for USDualSports
REFRESH-INTERVAL;VALUE=DURATION:PT1H
X-Robots-Tag:noindex
X-PUBLISHED-TTL:PT1H
BEGIN:VTIMEZONE
TZID:UTC
BEGIN:STANDARD
TZOFFSETFROM:+0000
TZOFFSETTO:+0000
TZNAME:UTC
DTSTART:20240101T000000
END:STANDARD
END:VTIMEZONE
BEGIN:VEVENT
DTSTART;VALUE=DATE:20251114
DTEND;VALUE=DATE:20251116
DTSTAMP:20260421T212927
CREATED:20241013T005913Z
LAST-MODIFIED:20250210T171431Z
UID:31398-1763078400-1763251199@www.usdualsports.com
SUMMARY:Las Vegas 300 Dual Sport Adventure Ride
DESCRIPTION:Nevada
URL:https://www.usdualsports.com/event/las-vegas-300-dual-sport-adventure/
CATEGORIES:Adventure Rides,Dual Sport Rides
END:VEVENT
BEGIN:VEVENT
DTSTART;VALUE=DATE:20251114
DTEND;VALUE=DATE:20251116
DTSTAMP:20260421T212927
CREATED:20241013T185046Z
LAST-MODIFIED:20260120T130843Z
UID:31410-1763078400-1763251199@www.usdualsports.com
SUMMARY:Cross Florida Adventure Ride
DESCRIPTION:Florida
URL:https://www.usdualsports.com/event/cross-florida-adventure-ride/
CATEGORIES:Adventure Rides
END:VEVENT
END:VCALENDAR