BEGIN:VCALENDAR
VERSION:2.0
PRODID:-//USDualSports - ECPv6.15.17//NONSGML v1.0//EN
CALSCALE:GREGORIAN
METHOD:PUBLISH
X-ORIGINAL-URL:https://www.usdualsports.com
X-WR-CALDESC:Events for USDualSports
REFRESH-INTERVAL;VALUE=DURATION:PT1H
X-Robots-Tag:noindex
X-PUBLISHED-TTL:PT1H
BEGIN:VTIMEZONE
TZID:UTC
BEGIN:STANDARD
TZOFFSETFROM:+0000
TZOFFSETTO:+0000
TZNAME:UTC
DTSTART:20240101T000000
END:STANDARD
END:VTIMEZONE
BEGIN:VEVENT
DTSTART;VALUE=DATE:20250918
DTEND;VALUE=DATE:20250922
DTSTAMP:20260422T004551
CREATED:20241017T233004Z
LAST-MODIFIED:20241023T153405Z
UID:31758-1758153600-1758499199@www.usdualsports.com
SUMMARY:AUTUMN SPANISH BORDER ADVENTURE
DESCRIPTION:New Mexico
URL:https://www.usdualsports.com/event/autumn-spanish-border-adventure/
CATEGORIES:Adventure Rides
END:VEVENT
END:VCALENDAR