BEGIN:VCALENDAR
VERSION:2.0
PRODID:-//USDualSports - ECPv6.15.17//NONSGML v1.0//EN
CALSCALE:GREGORIAN
METHOD:PUBLISH
X-ORIGINAL-URL:https://www.usdualsports.com
X-WR-CALDESC:Events for USDualSports
REFRESH-INTERVAL;VALUE=DURATION:PT1H
X-Robots-Tag:noindex
X-PUBLISHED-TTL:PT1H
BEGIN:VTIMEZONE
TZID:UTC
BEGIN:STANDARD
TZOFFSETFROM:+0000
TZOFFSETTO:+0000
TZNAME:UTC
DTSTART:20240101T000000
END:STANDARD
END:VTIMEZONE
BEGIN:VEVENT
DTSTART;VALUE=DATE:20250514
DTEND;VALUE=DATE:20250520
DTSTAMP:20260422T075524
CREATED:20241017T233412Z
LAST-MODIFIED:20241023T153443Z
UID:31764-1747180800-1747699199@www.usdualsports.com
SUMMARY:LAKE POWELL BACKROADS ADVENTURE
DESCRIPTION:Utah
URL:https://www.usdualsports.com/event/lake-powell-backroads-adventure/
CATEGORIES:Adventure Rides
END:VEVENT
END:VCALENDAR