BEGIN:VCALENDAR
VERSION:2.0
PRODID:-//USDualSports - ECPv6.15.17//NONSGML v1.0//EN
CALSCALE:GREGORIAN
METHOD:PUBLISH
X-WR-CALNAME:USDualSports
X-ORIGINAL-URL:https://www.usdualsports.com
X-WR-CALDESC:Events for USDualSports
REFRESH-INTERVAL;VALUE=DURATION:PT1H
X-Robots-Tag:noindex
X-PUBLISHED-TTL:PT1H
BEGIN:VTIMEZONE
TZID:UTC
BEGIN:STANDARD
TZOFFSETFROM:+0000
TZOFFSETTO:+0000
TZNAME:UTC
DTSTART:20240101T000000
END:STANDARD
END:VTIMEZONE
BEGIN:VEVENT
DTSTART;VALUE=DATE:20250501
DTEND;VALUE=DATE:20250504
DTSTAMP:20260422T075245
CREATED:20241213T020933Z
LAST-MODIFIED:20241213T020933Z
UID:32578-1746057600-1746316799@www.usdualsports.com
SUMMARY:Pigs in the Forest Dual Sport Adventure
DESCRIPTION:Mississippi
URL:https://www.usdualsports.com/event/pigs-in-the-forest-dual-sport-adventure/
CATEGORIES:Adventure Rides
END:VEVENT
END:VCALENDAR