BEGIN:VCALENDAR
VERSION:2.0
PRODID:-//USDualSports - ECPv6.15.17//NONSGML v1.0//EN
CALSCALE:GREGORIAN
METHOD:PUBLISH
X-ORIGINAL-URL:https://www.usdualsports.com
X-WR-CALDESC:Events for USDualSports
REFRESH-INTERVAL;VALUE=DURATION:PT1H
X-Robots-Tag:noindex
X-PUBLISHED-TTL:PT1H
BEGIN:VTIMEZONE
TZID:UTC
BEGIN:STANDARD
TZOFFSETFROM:+0000
TZOFFSETTO:+0000
TZNAME:UTC
DTSTART:20250101T000000
END:STANDARD
END:VTIMEZONE
BEGIN:VTIMEZONE
TZID:America/Indiana/Indianapolis
BEGIN:DAYLIGHT
TZOFFSETFROM:-0500
TZOFFSETTO:-0400
TZNAME:EDT
DTSTART:20250309T070000
END:DAYLIGHT
BEGIN:STANDARD
TZOFFSETFROM:-0400
TZOFFSETTO:-0500
TZNAME:EST
DTSTART:20251102T060000
END:STANDARD
BEGIN:DAYLIGHT
TZOFFSETFROM:-0500
TZOFFSETTO:-0400
TZNAME:EDT
DTSTART:20260308T070000
END:DAYLIGHT
BEGIN:STANDARD
TZOFFSETFROM:-0400
TZOFFSETTO:-0500
TZNAME:EST
DTSTART:20261101T060000
END:STANDARD
BEGIN:DAYLIGHT
TZOFFSETFROM:-0500
TZOFFSETTO:-0400
TZNAME:EDT
DTSTART:20270314T070000
END:DAYLIGHT
BEGIN:STANDARD
TZOFFSETFROM:-0400
TZOFFSETTO:-0500
TZNAME:EST
DTSTART:20271107T060000
END:STANDARD
END:VTIMEZONE
BEGIN:VEVENT
DTSTART;VALUE=DATE:20260429
DTEND;VALUE=DATE:20260504
DTSTAMP:20260421T120509
CREATED:20241024T002601Z
LAST-MODIFIED:20260108T203026Z
UID:32054-1777420800-1777852799@www.usdualsports.com
SUMMARY:The RDV Adventure Ride
DESCRIPTION:Tennessee
URL:https://www.usdualsports.com/event/ricks-eastern-rendezvous-adventure-ride/
CATEGORIES:Adventure Rides
END:VEVENT
BEGIN:VEVENT
DTSTART;VALUE=DATE:20260508
DTEND;VALUE=DATE:20260511
DTSTAMP:20260421T120509
CREATED:20260221T215952Z
LAST-MODIFIED:20260221T215952Z
UID:36495-1778198400-1778457599@www.usdualsports.com
SUMMARY:BAT Tracks Adventure Tour
DESCRIPTION:West Virginia
URL:https://www.usdualsports.com/event/bat-tracks-adventure-tour/
CATEGORIES:Adventure Rides
END:VEVENT
BEGIN:VEVENT
DTSTART;VALUE=DATE:20260515
DTEND;VALUE=DATE:20260517
DTSTAMP:20260421T120509
CREATED:20260109T150218Z
LAST-MODIFIED:20260109T150218Z
UID:36038-1778803200-1778975999@www.usdualsports.com
SUMMARY:Florida Traverse Adventure Ride
DESCRIPTION:Florida\, Georgia
URL:https://www.usdualsports.com/event/florida-traverse-adventure-ride/
CATEGORIES:Adventure Rides
END:VEVENT
BEGIN:VEVENT
DTSTART;VALUE=DATE:20260530
DTEND;VALUE=DATE:20260601
DTSTAMP:20260421T120509
CREATED:20250102T194743Z
LAST-MODIFIED:20260109T150638Z
UID:32936-1780099200-1780271999@www.usdualsports.com
SUMMARY:Durty Dabbers Dual Sport
DESCRIPTION:Pennsylvania
URL:https://www.usdualsports.com/event/durty-dabbers-dual-sport/
CATEGORIES:Adventure Rides,Dual Sport Rides
END:VEVENT
END:VCALENDAR