BEGIN:VCALENDAR
VERSION:2.0
PRODID:-//USDualSports - ECPv6.15.17//NONSGML v1.0//EN
CALSCALE:GREGORIAN
METHOD:PUBLISH
X-WR-CALNAME:USDualSports
X-ORIGINAL-URL:https://www.usdualsports.com
X-WR-CALDESC:Events for USDualSports
REFRESH-INTERVAL;VALUE=DURATION:PT1H
X-Robots-Tag:noindex
X-PUBLISHED-TTL:PT1H
BEGIN:VTIMEZONE
TZID:UTC
BEGIN:STANDARD
TZOFFSETFROM:+0000
TZOFFSETTO:+0000
TZNAME:UTC
DTSTART:20240101T000000
END:STANDARD
END:VTIMEZONE
BEGIN:VEVENT
DTSTART;VALUE=DATE:20250821
DTEND;VALUE=DATE:20250829
DTSTAMP:20260422T004236
CREATED:20241019T010634Z
LAST-MODIFIED:20241023T153422Z
UID:31831-1755734400-1756425599@www.usdualsports.com
SUMMARY:Colorado Backroads Discovery Ride
DESCRIPTION:Colorado
URL:https://www.usdualsports.com/event/colorado-backroads-discovery-ride/
CATEGORIES:Adventure Rides
END:VEVENT
END:VCALENDAR