BEGIN:VCALENDAR
VERSION:2.0
PRODID:-//USDualSports - ECPv6.15.17//NONSGML v1.0//EN
CALSCALE:GREGORIAN
METHOD:PUBLISH
X-ORIGINAL-URL:https://www.usdualsports.com
X-WR-CALDESC:Events for USDualSports
REFRESH-INTERVAL;VALUE=DURATION:PT1H
X-Robots-Tag:noindex
X-PUBLISHED-TTL:PT1H
BEGIN:VTIMEZONE
TZID:UTC
BEGIN:STANDARD
TZOFFSETFROM:+0000
TZOFFSETTO:+0000
TZNAME:UTC
DTSTART:20250101T000000
END:STANDARD
END:VTIMEZONE
BEGIN:VEVENT
DTSTART;VALUE=DATE:20260429
DTEND;VALUE=DATE:20260504
DTSTAMP:20260421T010818
CREATED:20241024T002601Z
LAST-MODIFIED:20260108T203026Z
UID:32054-1777420800-1777852799@www.usdualsports.com
SUMMARY:The RDV Adventure Ride
DESCRIPTION:Tennessee
URL:https://www.usdualsports.com/event/ricks-eastern-rendezvous-adventure-ride/
CATEGORIES:Adventure Rides
END:VEVENT
BEGIN:VEVENT
DTSTART;VALUE=DATE:20260502
DTEND;VALUE=DATE:20260504
DTSTAMP:20260421T010818
CREATED:20241010T170024Z
LAST-MODIFIED:20251121T143015Z
UID:31223-1777680000-1777852799@www.usdualsports.com
SUMMARY:Renfro Valley Dual Sport
DESCRIPTION:Kentucky
URL:https://www.usdualsports.com/event/renfro-valley-dual-sport/
CATEGORIES:Dual Sport Rides
END:VEVENT
END:VCALENDAR