BEGIN:VCALENDAR
VERSION:2.0
PRODID:-//USDualSports - ECPv6.15.17//NONSGML v1.0//EN
CALSCALE:GREGORIAN
METHOD:PUBLISH
X-WR-CALNAME:USDualSports
X-ORIGINAL-URL:https://www.usdualsports.com
X-WR-CALDESC:Events for USDualSports
REFRESH-INTERVAL;VALUE=DURATION:PT1H
X-Robots-Tag:noindex
X-PUBLISHED-TTL:PT1H
BEGIN:VTIMEZONE
TZID:UTC
BEGIN:STANDARD
TZOFFSETFROM:+0000
TZOFFSETTO:+0000
TZNAME:UTC
DTSTART:20250101T000000
END:STANDARD
END:VTIMEZONE
BEGIN:VEVENT
DTSTART;VALUE=DATE:20260409
DTEND;VALUE=DATE:20260413
DTSTAMP:20260420T231834
CREATED:20250124T211556Z
LAST-MODIFIED:20260121T191633Z
UID:33239-1775692800-1776038399@www.usdualsports.com
SUMMARY:Palmetto ADV Rally
DESCRIPTION:South Carolina
URL:https://www.usdualsports.com/event/palmetto-adv-rally/
CATEGORIES:Adventure Rides
END:VEVENT
BEGIN:VEVENT
DTSTART;VALUE=DATE:20260411
DTEND;VALUE=DATE:20260413
DTSTAMP:20260420T231834
CREATED:20241211T223837Z
LAST-MODIFIED:20260105T143424Z
UID:32497-1775865600-1776038399@www.usdualsports.com
SUMMARY:StumpJumpers Dual Sport
DESCRIPTION:Washington
URL:https://www.usdualsports.com/event/stumpjumpers-dual-sport/
CATEGORIES:Adventure Rides,Dual Sport Rides
END:VEVENT
END:VCALENDAR