BEGIN:VCALENDAR
VERSION:2.0
PRODID:-//USDualSports - ECPv6.15.17//NONSGML v1.0//EN
CALSCALE:GREGORIAN
METHOD:PUBLISH
X-ORIGINAL-URL:https://www.usdualsports.com
X-WR-CALDESC:Events for USDualSports
REFRESH-INTERVAL;VALUE=DURATION:PT1H
X-Robots-Tag:noindex
X-PUBLISHED-TTL:PT1H
BEGIN:VTIMEZONE
TZID:UTC
BEGIN:STANDARD
TZOFFSETFROM:+0000
TZOFFSETTO:+0000
TZNAME:UTC
DTSTART:20250101T000000
END:STANDARD
END:VTIMEZONE
BEGIN:VEVENT
DTSTART;VALUE=DATE:20260305
DTEND;VALUE=DATE:20260310
DTSTAMP:20260421T011650
CREATED:20241010T232443Z
LAST-MODIFIED:20251221T224156Z
UID:31266-1772668800-1773100799@www.usdualsports.com
SUMMARY:Wickenburg Dual Sport & Adventure Ride
DESCRIPTION:Arizona
URL:https://www.usdualsports.com/event/wick-dual-sport-adventure-ride/
CATEGORIES:Adventure Rides,Arizona Adventure Ride,Arizona Dual Sport,Dual Sport Rides
END:VEVENT
END:VCALENDAR