BEGIN:VCALENDAR
VERSION:2.0
PRODID:-//USDualSports - ECPv6.15.17//NONSGML v1.0//EN
CALSCALE:GREGORIAN
METHOD:PUBLISH
X-WR-CALNAME:USDualSports
X-ORIGINAL-URL:https://www.usdualsports.com
X-WR-CALDESC:Events for USDualSports
REFRESH-INTERVAL;VALUE=DURATION:PT1H
X-Robots-Tag:noindex
X-PUBLISHED-TTL:PT1H
BEGIN:VTIMEZONE
TZID:UTC
BEGIN:STANDARD
TZOFFSETFROM:+0000
TZOFFSETTO:+0000
TZNAME:UTC
DTSTART:20250101T000000
END:STANDARD
END:VTIMEZONE
BEGIN:VEVENT
DTSTART;VALUE=DATE:20260214
DTEND;VALUE=DATE:20260217
DTSTAMP:20260421T030233
CREATED:20241010T232216Z
LAST-MODIFIED:20251212T124501Z
UID:31260-1771027200-1771286399@www.usdualsports.com
SUMMARY:Death Valley Rally
DESCRIPTION:California
URL:https://www.usdualsports.com/event/death-valley-rally/
CATEGORIES:Adventure Rides,Dual Sport Rides
END:VEVENT
END:VCALENDAR