BEGIN:VCALENDAR
VERSION:2.0
PRODID:-//USDualSports - ECPv6.15.17//NONSGML v1.0//EN
CALSCALE:GREGORIAN
METHOD:PUBLISH
X-ORIGINAL-URL:https://www.usdualsports.com
X-WR-CALDESC:Events for USDualSports
REFRESH-INTERVAL;VALUE=DURATION:PT1H
X-Robots-Tag:noindex
X-PUBLISHED-TTL:PT1H
BEGIN:VTIMEZONE
TZID:UTC
BEGIN:STANDARD
TZOFFSETFROM:+0000
TZOFFSETTO:+0000
TZNAME:UTC
DTSTART:20250101T000000
END:STANDARD
END:VTIMEZONE
BEGIN:VEVENT
DTSTART;VALUE=DATE:20260124
DTEND;VALUE=DATE:20260126
DTSTAMP:20260421T045313
CREATED:20241211T175707Z
LAST-MODIFIED:20251212T123717Z
UID:32411-1769212800-1769385599@www.usdualsports.com
SUMMARY:High Desert 250 Dual Sport
DESCRIPTION:California
URL:https://www.usdualsports.com/event/high-desert-250-dual-sport/
CATEGORIES:Dual Sport Rides
END:VEVENT
END:VCALENDAR