BEGIN:VCALENDAR
VERSION:2.0
PRODID:-//USDualSports - ECPv6.15.17//NONSGML v1.0//EN
CALSCALE:GREGORIAN
METHOD:PUBLISH
X-WR-CALNAME:USDualSports
X-ORIGINAL-URL:https://www.usdualsports.com
X-WR-CALDESC:Events for USDualSports
REFRESH-INTERVAL;VALUE=DURATION:PT1H
X-Robots-Tag:noindex
X-PUBLISHED-TTL:PT1H
BEGIN:VTIMEZONE
TZID:UTC
BEGIN:STANDARD
TZOFFSETFROM:+0000
TZOFFSETTO:+0000
TZNAME:UTC
DTSTART:20240101T000000
END:STANDARD
END:VTIMEZONE
BEGIN:VEVENT
DTSTART;VALUE=DATE:20251207
DTEND;VALUE=DATE:20251208
DTSTAMP:20260421T075703
CREATED:20241013T010111Z
LAST-MODIFIED:20250210T171753Z
UID:31407-1765065600-1765151999@www.usdualsports.com
SUMMARY:DVTR Toy Run Dual Sport
DESCRIPTION:Pennsylvania
URL:https://www.usdualsports.com/event/dvtr-toy-run-dual-sport/
CATEGORIES:Dual Sport Rides
END:VEVENT
END:VCALENDAR